BEGIN:VCALENDAR
VERSION:2.0
PRODID:-//The Indiana Commercial Board of Realtors - ECPv6.15.18//NONSGML v1.0//EN
CALSCALE:GREGORIAN
METHOD:PUBLISH
X-ORIGINAL-URL:https://www.myicbr.org
X-WR-CALDESC:Events for The Indiana Commercial Board of Realtors
REFRESH-INTERVAL;VALUE=DURATION:PT1H
X-Robots-Tag:noindex
X-PUBLISHED-TTL:PT1H
BEGIN:VTIMEZONE
TZID:America/Indiana/Indianapolis
BEGIN:DAYLIGHT
TZOFFSETFROM:-0500
TZOFFSETTO:-0400
TZNAME:EDT
DTSTART:20240310T070000
END:DAYLIGHT
BEGIN:STANDARD
TZOFFSETFROM:-0400
TZOFFSETTO:-0500
TZNAME:EST
DTSTART:20241103T060000
END:STANDARD
BEGIN:DAYLIGHT
TZOFFSETFROM:-0500
TZOFFSETTO:-0400
TZNAME:EDT
DTSTART:20250309T070000
END:DAYLIGHT
BEGIN:STANDARD
TZOFFSETFROM:-0400
TZOFFSETTO:-0500
TZNAME:EST
DTSTART:20251102T060000
END:STANDARD
BEGIN:DAYLIGHT
TZOFFSETFROM:-0500
TZOFFSETTO:-0400
TZNAME:EDT
DTSTART:20260308T070000
END:DAYLIGHT
BEGIN:STANDARD
TZOFFSETFROM:-0400
TZOFFSETTO:-0500
TZNAME:EST
DTSTART:20261101T060000
END:STANDARD
END:VTIMEZONE
BEGIN:VEVENT
DTSTART;TZID=America/Indiana/Indianapolis:20250604T083000
DTEND;TZID=America/Indiana/Indianapolis:20250604T103000
DTSTAMP:20260424T024601
CREATED:20250317T142300Z
LAST-MODIFIED:20250421T175515Z
UID:10000313-1749025800-1749033000@www.myicbr.org
SUMMARY:NAIOP: Trends in Incentives Breakfast
DESCRIPTION:Save the date for NAIOP’s Trends in Incentives Breakfast! \nVisit NAIOP’s website to learn more
URL:https://www.myicbr.org/event/naiop-trends-in-incentives-breakfast/
CATEGORIES:Partner Organization Events
ATTACH;FMTTYPE=image/png:https://www.myicbr.org/wp-content/uploads/2023/10/NAIOP-e1746213998682.png
END:VEVENT
BEGIN:VEVENT
DTSTART;TZID=America/Indiana/Indianapolis:20250604T110000
DTEND;TZID=America/Indiana/Indianapolis:20250604T163000
DTSTAMP:20260424T024601
CREATED:20250421T184435Z
LAST-MODIFIED:20250421T184435Z
UID:10000319-1749034800-1749054600@www.myicbr.org
SUMMARY:IndyCREW: Lunch & Learn on the Links
DESCRIPTION:Join IndyCREW for a day of golf at their upcoming clinic! Whether you’re a seasoned golfer or just starting out\, this event promises to be both fun and informative. Golf pros will provide valuable tips and techniques to help improve your game\, plus\, there will be plenty of opportunities to practice your skills on the course and connect with fellow members. Don’t miss out on this opportunity to enhance your golfing experience while enjoying a day filled with camaraderie and learning. \nVisit IndyCREW’s website to learn more
URL:https://www.myicbr.org/event/indycrew-lunch-learn-on-the-links/
LOCATION:Bridgewater Club\, 3535 E 161st St\, Carmel\, 46033\, United States
CATEGORIES:Industry Event,Partner Organization Events
ATTACH;FMTTYPE=image/png:https://www.myicbr.org/wp-content/uploads/2023/08/indy-crew-transparent.png
END:VEVENT
END:VCALENDAR