BEGIN:VCALENDAR
VERSION:2.0
PRODID:-//The Indiana Commercial Board of Realtors - ECPv6.15.18//NONSGML v1.0//EN
CALSCALE:GREGORIAN
METHOD:PUBLISH
X-WR-CALNAME:The Indiana Commercial Board of Realtors
X-ORIGINAL-URL:https://www.myicbr.org
X-WR-CALDESC:Events for The Indiana Commercial Board of Realtors
REFRESH-INTERVAL;VALUE=DURATION:PT1H
X-Robots-Tag:noindex
X-PUBLISHED-TTL:PT1H
BEGIN:VTIMEZONE
TZID:America/Indiana/Indianapolis
BEGIN:DAYLIGHT
TZOFFSETFROM:-0500
TZOFFSETTO:-0400
TZNAME:EDT
DTSTART:20250309T070000
END:DAYLIGHT
BEGIN:STANDARD
TZOFFSETFROM:-0400
TZOFFSETTO:-0500
TZNAME:EST
DTSTART:20251102T060000
END:STANDARD
BEGIN:DAYLIGHT
TZOFFSETFROM:-0500
TZOFFSETTO:-0400
TZNAME:EDT
DTSTART:20260308T070000
END:DAYLIGHT
BEGIN:STANDARD
TZOFFSETFROM:-0400
TZOFFSETTO:-0500
TZNAME:EST
DTSTART:20261101T060000
END:STANDARD
BEGIN:DAYLIGHT
TZOFFSETFROM:-0500
TZOFFSETTO:-0400
TZNAME:EDT
DTSTART:20270314T070000
END:DAYLIGHT
BEGIN:STANDARD
TZOFFSETFROM:-0400
TZOFFSETTO:-0500
TZNAME:EST
DTSTART:20271107T060000
END:STANDARD
END:VTIMEZONE
BEGIN:VEVENT
DTSTART;TZID=America/Indiana/Indianapolis:20260205T113000
DTEND;TZID=America/Indiana/Indianapolis:20260205T133000
DTSTAMP:20260422T033146
CREATED:20251027T132142Z
LAST-MODIFIED:20251027T132142Z
UID:10000377-1770291000-1770298200@www.myicbr.org
SUMMARY:CCIM: Capital Markets Panel Luncheon
DESCRIPTION:Save the date for CCIM’ Capital Markets Panel Luncheon! \nVisit CCIM’s website to learn more
URL:https://www.myicbr.org/event/ccim-capital-markets-panel-luncheon/
CATEGORIES:Industry Event,Partner Organization Events
ATTACH;FMTTYPE=image/png:https://www.myicbr.org/wp-content/uploads/2025/10/CCIM-INDIANA-HORIZONTAL-FULL-COLOR-RGB-1000PX-W-144PPI.png
END:VEVENT
BEGIN:VEVENT
DTSTART;TZID=America/Indiana/Indianapolis:20260205T170000
DTEND;TZID=America/Indiana/Indianapolis:20260205T190000
DTSTAMP:20260422T033146
CREATED:20260113T154031Z
LAST-MODIFIED:20260113T154031Z
UID:10000434-1770310800-1770318000@www.myicbr.org
SUMMARY:Indy REAL: 2026 Kickoff Happy Hour
DESCRIPTION:Kickoff Indy REAL’s 2026 events with happy hour at the District Tap! \nVisit Indy REAL’s website to learn more
URL:https://www.myicbr.org/event/indy-real-2026-kickoff-happy-hour/
LOCATION:District Tap\, 3720 E 82nd St\, Indianapolis\, 46240\, United States
CATEGORIES:Industry Event,Partner Organization Events
ATTACH;FMTTYPE=image/jpeg:https://www.myicbr.org/wp-content/uploads/2023/10/Indy-REAL.jpg
END:VEVENT
END:VCALENDAR