BEGIN:VCALENDAR
VERSION:2.0
PRODID:-//The Indiana Commercial Board of Realtors - ECPv6.15.18//NONSGML v1.0//EN
CALSCALE:GREGORIAN
METHOD:PUBLISH
X-ORIGINAL-URL:https://www.myicbr.org
X-WR-CALDESC:Events for The Indiana Commercial Board of Realtors
REFRESH-INTERVAL;VALUE=DURATION:PT1H
X-Robots-Tag:noindex
X-PUBLISHED-TTL:PT1H
BEGIN:VTIMEZONE
TZID:America/Indiana/Indianapolis
BEGIN:DAYLIGHT
TZOFFSETFROM:-0500
TZOFFSETTO:-0400
TZNAME:EDT
DTSTART:20250309T070000
END:DAYLIGHT
BEGIN:STANDARD
TZOFFSETFROM:-0400
TZOFFSETTO:-0500
TZNAME:EST
DTSTART:20251102T060000
END:STANDARD
BEGIN:DAYLIGHT
TZOFFSETFROM:-0500
TZOFFSETTO:-0400
TZNAME:EDT
DTSTART:20260308T070000
END:DAYLIGHT
BEGIN:STANDARD
TZOFFSETFROM:-0400
TZOFFSETTO:-0500
TZNAME:EST
DTSTART:20261101T060000
END:STANDARD
BEGIN:DAYLIGHT
TZOFFSETFROM:-0500
TZOFFSETTO:-0400
TZNAME:EDT
DTSTART:20270314T070000
END:DAYLIGHT
BEGIN:STANDARD
TZOFFSETFROM:-0400
TZOFFSETTO:-0500
TZNAME:EST
DTSTART:20271107T060000
END:STANDARD
END:VTIMEZONE
BEGIN:VEVENT
DTSTART;TZID=America/Indiana/Indianapolis:20260508T113000
DTEND;TZID=America/Indiana/Indianapolis:20260508T133000
DTSTAMP:20260424T082832
CREATED:20260305T201432Z
LAST-MODIFIED:20260406T134501Z
UID:10000455-1778239800-1778247000@www.myicbr.org
SUMMARY:Ladies in Land: Crafting a 600+ Master-Planned Community - Finch Creek Case Study
DESCRIPTION:Join Ladies in Land for an inside look at the land development strategy behind a large scale\, mixed use master planned community. Explore the entitlement pathway\, infrastructure sequencing\, land use programming\, and development partnerships that transform raw acreage into a cohesive\, investable\, and enduring destination. \nVisit Ladies in Land’s website to learn more \n 
URL:https://www.myicbr.org/event/ladies-in-land-crafting-a-600-master-planned-community-finch-creek-case-study/
LOCATION:500 East 96th Street\, Suite 300\, Indianapolis\, IN 46240\, 500 East 96th Street\, Suite 300\, Indianapolis\, 46240\, United States
CATEGORIES:Industry Event
ATTACH;FMTTYPE=image/png:https://www.myicbr.org/wp-content/uploads/2026/04/ladies-in-land.png
END:VEVENT
END:VCALENDAR