BEGIN:VCALENDAR
VERSION:2.0
PRODID:-//The Indiana Commercial Board of Realtors - ECPv6.15.18//NONSGML v1.0//EN
CALSCALE:GREGORIAN
METHOD:PUBLISH
X-ORIGINAL-URL:https://www.myicbr.org
X-WR-CALDESC:Events for The Indiana Commercial Board of Realtors
REFRESH-INTERVAL;VALUE=DURATION:PT1H
X-Robots-Tag:noindex
X-PUBLISHED-TTL:PT1H
BEGIN:VTIMEZONE
TZID:America/Indiana/Indianapolis
BEGIN:DAYLIGHT
TZOFFSETFROM:-0500
TZOFFSETTO:-0400
TZNAME:EDT
DTSTART:20240310T070000
END:DAYLIGHT
BEGIN:STANDARD
TZOFFSETFROM:-0400
TZOFFSETTO:-0500
TZNAME:EST
DTSTART:20241103T060000
END:STANDARD
BEGIN:DAYLIGHT
TZOFFSETFROM:-0500
TZOFFSETTO:-0400
TZNAME:EDT
DTSTART:20250309T070000
END:DAYLIGHT
BEGIN:STANDARD
TZOFFSETFROM:-0400
TZOFFSETTO:-0500
TZNAME:EST
DTSTART:20251102T060000
END:STANDARD
BEGIN:DAYLIGHT
TZOFFSETFROM:-0500
TZOFFSETTO:-0400
TZNAME:EDT
DTSTART:20260308T070000
END:DAYLIGHT
BEGIN:STANDARD
TZOFFSETFROM:-0400
TZOFFSETTO:-0500
TZNAME:EST
DTSTART:20261101T060000
END:STANDARD
END:VTIMEZONE
BEGIN:VEVENT
DTSTART;TZID=America/Indiana/Indianapolis:20250501T113000
DTEND;TZID=America/Indiana/Indianapolis:20250501T170000
DTSTAMP:20260424T024712
CREATED:20241105T141127Z
LAST-MODIFIED:20250421T195238Z
UID:10000263-1746099000-1746118800@www.myicbr.org
SUMMARY:IREM Indy: Clay Shoot
DESCRIPTION:IREM Indy’s Sporting Clay Shooting Event is an opportunity for you to have fun and team-build at the same time!  Whether you are an expert shooter or you have never fired a gun before\, the Indiana Gun Club will train you for an exciting event  practicing what you learned. \nVisit IREM’s website to learn more!
URL:https://www.myicbr.org/event/irem-indy-clay-shoot-2/
LOCATION:Indiana Gun Club\, 14926 E 113th Street\, Fortville\, 46040\, United States
CATEGORIES:Industry Event,Partner Organization Events
ATTACH;FMTTYPE=image/jpeg:https://www.myicbr.org/wp-content/uploads/2023/10/IREM.jpg
END:VEVENT
BEGIN:VEVENT
DTSTART;TZID=America/Indiana/Indianapolis:20250507T160000
DTEND;TZID=America/Indiana/Indianapolis:20250507T180000
DTSTAMP:20260424T024712
CREATED:20250421T200540Z
LAST-MODIFIED:20250421T200540Z
UID:10000326-1746633600-1746640800@www.myicbr.org
SUMMARY:ULI: YLG Happy Hour
DESCRIPTION:Join the ULI Indiana Young Leaders Group for a laid-back evening of networking and conversation with fellow professionals in real estate. Whether you’re looking to make new connections\, catch up with colleagues\, or simply unwind after a busy day\, this happy hour is the perfect opportunity to engage with other emerging leaders in the industry. \nVisit ULI’s website to learn more
URL:https://www.myicbr.org/event/uli-ylg-happy-hour/
LOCATION:The Rooftop Garden\, 1105 Prospect St\, Indianapolis\, 46203\, United States
CATEGORIES:Industry Event,Partner Organization Events
END:VEVENT
BEGIN:VEVENT
DTSTART;TZID=America/Indiana/Indianapolis:20250508T160000
DTEND;TZID=America/Indiana/Indianapolis:20250508T190000
DTSTAMP:20260424T024712
CREATED:20250421T201517Z
LAST-MODIFIED:20250421T201517Z
UID:10000329-1746720000-1746730800@www.myicbr.org
SUMMARY:BOMA: 500 Expo
DESCRIPTION:Calling all race fans! Get ready for an exciting day at this year’s BOMA 500 Expo at the Ritz Charles in Carmel\, IN. With 90+ exhibitors and 350+ industry partners\, this premier event brings together top professionals\, innovative solutions\, and valuable networking opportunities. BOMA Indiana invites you to be part of one of the largest industry events of the year—don’t miss out! \nVisit BOMA’s website to learn more
URL:https://www.myicbr.org/event/boma-500-expo/
LOCATION:Ritz Charles\, 12156 N Meridian St\, Carmel\, IN\, 46032\, United States
CATEGORIES:Industry Event,Partner Organization Events
ATTACH;FMTTYPE=image/png:https://www.myicbr.org/wp-content/uploads/2024/04/BOMA-3-Cs-Header-1-e1713966032635.png
END:VEVENT
BEGIN:VEVENT
DTSTART;TZID=America/Indiana/Indianapolis:20250509T110000
DTEND;TZID=America/Indiana/Indianapolis:20250509T170000
DTSTAMP:20260424T024712
CREATED:20250428T203248Z
LAST-MODIFIED:20250428T203724Z
UID:10000331-1746788400-1746810000@www.myicbr.org
SUMMARY:Indy REAL: Day at the Track
DESCRIPTION:Join Indy REAL and DEEM in a suite for a fun day at the track watching IndyCar practice and qualifying plus food\, drinks\, networking and fun! \nVisit Indy REAL’s website to learn more
URL:https://www.myicbr.org/event/indy-real-day-at-the-track-2/
LOCATION:Indianapolis Motor Speedway\, 4790 W 16th Street\, Indianapolis\, 46222\, United States
CATEGORIES:Industry Event,Partner Organization Events
ATTACH;FMTTYPE=image/jpeg:https://www.myicbr.org/wp-content/uploads/2023/10/Indy-REAL.jpg
END:VEVENT
BEGIN:VEVENT
DTSTART;TZID=America/Indiana/Indianapolis:20250513T110000
DTEND;TZID=America/Indiana/Indianapolis:20250513T180000
DTSTAMP:20260424T024712
CREATED:20250124T173418Z
LAST-MODIFIED:20250421T184035Z
UID:10000296-1747134000-1747159200@www.myicbr.org
SUMMARY:IndyCREW: Day at the Track
DESCRIPTION:Join IndyCREW in May at the Gasoline Alley Suites for a day of fun and networking with other IndyCREW members. This luxury suite is situated above the famous Gasoline Alley\, located along the front straightaway inside the track. You’ll enjoy spectacular views of the action from the inside of the suite and rooftop bleachers while connecting with other members. MEMBERS are able to bring 1 guest for this event – the guest must be registered at the same time as the member. \nVisit IndyCREW’s website to learn more
URL:https://www.myicbr.org/event/indycrew-day-at-the-track/
LOCATION:Indianapolis Motor Speedway\, 4790 W 16th Street\, Indianapolis\, 46222\, United States
CATEGORIES:Industry Event,Partner Organization Events
ATTACH;FMTTYPE=image/png:https://www.myicbr.org/wp-content/uploads/2023/08/indy-crew-transparent.png
END:VEVENT
BEGIN:VEVENT
DTSTART;TZID=America/Indiana/Indianapolis:20250515T150000
DTEND;TZID=America/Indiana/Indianapolis:20250515T190000
DTSTAMP:20260424T024712
CREATED:20250421T200759Z
LAST-MODIFIED:20250421T200759Z
UID:10000327-1747321200-1747335600@www.myicbr.org
SUMMARY:ULI: REDI Pitch Competition and Celebration
DESCRIPTION:Join ULI on May 15th for an inspiring evening as the 2025 ULI Indiana Real Estate Diversity Initiative (REDI) cohort takes the stage to present their final development proposals for key sites in Indianapolis. This high-energy pitch competition is the culmination of 15 weeks of intensive learning\, hands-on project development\, and mentorship from industry leaders. Whether you’re scouting for top talent\, passionate about fostering diversity in real estate\, or simply want to support the next generation of changemakers\, this event is for you! \nVisit ULI’s website to learn more
URL:https://www.myicbr.org/event/uli-redi-pitch-competition-and-celebration/
LOCATION:Canal Pointe\, 337 W 11th Street\, Indianapolis\, 46202\, United States
CATEGORIES:Industry Event,Partner Organization Events
END:VEVENT
BEGIN:VEVENT
DTSTART;TZID=America/Indiana/Indianapolis:20250522T080000
DTEND;TZID=America/Indiana/Indianapolis:20250522T093000
DTSTAMP:20260424T024712
CREATED:20250520T190751Z
LAST-MODIFIED:20250520T190804Z
UID:10000333-1747900800-1747906200@www.myicbr.org
SUMMARY:NAIOP: Developing Leaders Breakfast Series Session 1
DESCRIPTION:Join NAIOP this summer for Indiana’s Developing Leaders Educational Breakfast Series\, designed exclusively for commercial real estate professionals age 35 and under. This session dives into three foundational components of every successful deal: TIF (Tax Increment Financing)\, Title\, and Lending. \nVisit NAIOP’s event page to learn more
URL:https://www.myicbr.org/event/naiop-developing-leaders-breakfast-series-session-1/
LOCATION:The Anchor\, 9345 Delegates Row\, Indianapolis\, 46240\, United States
CATEGORIES:Industry Event,Partner Organization Events
ATTACH;FMTTYPE=image/png:https://www.myicbr.org/wp-content/uploads/2023/10/NAIOP-e1746213998682.png
END:VEVENT
END:VCALENDAR