BEGIN:VCALENDAR
VERSION:2.0
PRODID:-//The Indiana Commercial Board of Realtors - ECPv6.15.18//NONSGML v1.0//EN
CALSCALE:GREGORIAN
METHOD:PUBLISH
X-ORIGINAL-URL:https://www.myicbr.org
X-WR-CALDESC:Events for The Indiana Commercial Board of Realtors
REFRESH-INTERVAL;VALUE=DURATION:PT1H
X-Robots-Tag:noindex
X-PUBLISHED-TTL:PT1H
BEGIN:VTIMEZONE
TZID:America/Indiana/Indianapolis
BEGIN:DAYLIGHT
TZOFFSETFROM:-0500
TZOFFSETTO:-0400
TZNAME:EDT
DTSTART:20240310T070000
END:DAYLIGHT
BEGIN:STANDARD
TZOFFSETFROM:-0400
TZOFFSETTO:-0500
TZNAME:EST
DTSTART:20241103T060000
END:STANDARD
BEGIN:DAYLIGHT
TZOFFSETFROM:-0500
TZOFFSETTO:-0400
TZNAME:EDT
DTSTART:20250309T070000
END:DAYLIGHT
BEGIN:STANDARD
TZOFFSETFROM:-0400
TZOFFSETTO:-0500
TZNAME:EST
DTSTART:20251102T060000
END:STANDARD
BEGIN:DAYLIGHT
TZOFFSETFROM:-0500
TZOFFSETTO:-0400
TZNAME:EDT
DTSTART:20260308T070000
END:DAYLIGHT
BEGIN:STANDARD
TZOFFSETFROM:-0400
TZOFFSETTO:-0500
TZNAME:EST
DTSTART:20261101T060000
END:STANDARD
END:VTIMEZONE
BEGIN:VEVENT
DTSTART;TZID=America/Indiana/Indianapolis:20250605T080000
DTEND;TZID=America/Indiana/Indianapolis:20250605T100000
DTSTAMP:20260424T023140
CREATED:20250528T192203Z
LAST-MODIFIED:20250528T192203Z
UID:10000344-1749110400-1749117600@www.myicbr.org
SUMMARY:ULI: Investing in Events: The Business of Building Creative Places
DESCRIPTION:Events aren’t just entertainment—they’re catalysts for investment\, identity\, and economic momentum. \nJoin ULI at this breakfast to explore how cultural events and programming are influencing real estate development across Central Indiana. \nVisit ULI’s website to learn moreuli
URL:https://www.myicbr.org/event/uli-investing-in-events-the-business-of-building-creative-places/
LOCATION:Indiana Landmarks\, 1201 Central Avenue\, Indianapolis\, 46202\, United States
CATEGORIES:Industry Event,Partner Organization Events
ATTACH;FMTTYPE=image/png:https://www.myicbr.org/wp-content/uploads/2025/05/ULI-Indiana.png
END:VEVENT
END:VCALENDAR