BEGIN:VCALENDAR
VERSION:2.0
PRODID:-//The Indiana Commercial Board of Realtors - ECPv6.15.18//NONSGML v1.0//EN
CALSCALE:GREGORIAN
METHOD:PUBLISH
X-WR-CALNAME:The Indiana Commercial Board of Realtors
X-ORIGINAL-URL:https://www.myicbr.org
X-WR-CALDESC:Events for The Indiana Commercial Board of Realtors
REFRESH-INTERVAL;VALUE=DURATION:PT1H
X-Robots-Tag:noindex
X-PUBLISHED-TTL:PT1H
BEGIN:VTIMEZONE
TZID:America/Indiana/Indianapolis
BEGIN:DAYLIGHT
TZOFFSETFROM:-0500
TZOFFSETTO:-0400
TZNAME:EDT
DTSTART:20240310T070000
END:DAYLIGHT
BEGIN:STANDARD
TZOFFSETFROM:-0400
TZOFFSETTO:-0500
TZNAME:EST
DTSTART:20241103T060000
END:STANDARD
BEGIN:DAYLIGHT
TZOFFSETFROM:-0500
TZOFFSETTO:-0400
TZNAME:EDT
DTSTART:20250309T070000
END:DAYLIGHT
BEGIN:STANDARD
TZOFFSETFROM:-0400
TZOFFSETTO:-0500
TZNAME:EST
DTSTART:20251102T060000
END:STANDARD
BEGIN:DAYLIGHT
TZOFFSETFROM:-0500
TZOFFSETTO:-0400
TZNAME:EDT
DTSTART:20260308T070000
END:DAYLIGHT
BEGIN:STANDARD
TZOFFSETFROM:-0400
TZOFFSETTO:-0500
TZNAME:EST
DTSTART:20261101T060000
END:STANDARD
END:VTIMEZONE
BEGIN:VEVENT
DTSTART;TZID=America/Indiana/Indianapolis:20250623T100000
DTEND;TZID=America/Indiana/Indianapolis:20250623T170000
DTSTAMP:20260424T022401
CREATED:20250124T173617Z
LAST-MODIFIED:20250421T184821Z
UID:10000297-1750672800-1750698000@www.myicbr.org
SUMMARY:IndyCREW: Golf Outing
DESCRIPTION:lndyCREW’s annual golf outing brings together nearly 200 commercial real estate professionals for a day of fun and golf. This year they are embracing the glitz\, glamor and all around celebration of a trip to Las Vegas at their “Viva Las CREW” Golf Outing. It will be a day of “hitting the jackpot” with the new connections and memories made\, refreshing beverages\, and of course\, fantastic golfing. Whether you’re a seasoned pro or looking for a fun day out on an incredible course\, this event promises a delightful distraction from your typical Monday. \nVisit IndyCREW’s website to learn more
URL:https://www.myicbr.org/event/indycrew-golf-outing/
LOCATION:Bridgewater Club\, 3535 E 161st St\, Carmel\, 46033\, United States
CATEGORIES:Industry Event,Partner Organization Events
ATTACH;FMTTYPE=image/png:https://www.myicbr.org/wp-content/uploads/2023/08/indy-crew-transparent.png
END:VEVENT
END:VCALENDAR