BEGIN:VCALENDAR
VERSION:2.0
PRODID:-//The Indiana Commercial Board of Realtors - ECPv6.15.18//NONSGML v1.0//EN
CALSCALE:GREGORIAN
METHOD:PUBLISH
X-ORIGINAL-URL:https://www.myicbr.org
X-WR-CALDESC:Events for The Indiana Commercial Board of Realtors
REFRESH-INTERVAL;VALUE=DURATION:PT1H
X-Robots-Tag:noindex
X-PUBLISHED-TTL:PT1H
BEGIN:VTIMEZONE
TZID:America/Indiana/Indianapolis
BEGIN:DAYLIGHT
TZOFFSETFROM:-0500
TZOFFSETTO:-0400
TZNAME:EDT
DTSTART:20250309T070000
END:DAYLIGHT
BEGIN:STANDARD
TZOFFSETFROM:-0400
TZOFFSETTO:-0500
TZNAME:EST
DTSTART:20251102T060000
END:STANDARD
BEGIN:DAYLIGHT
TZOFFSETFROM:-0500
TZOFFSETTO:-0400
TZNAME:EDT
DTSTART:20260308T070000
END:DAYLIGHT
BEGIN:STANDARD
TZOFFSETFROM:-0400
TZOFFSETTO:-0500
TZNAME:EST
DTSTART:20261101T060000
END:STANDARD
BEGIN:DAYLIGHT
TZOFFSETFROM:-0500
TZOFFSETTO:-0400
TZNAME:EDT
DTSTART:20270314T070000
END:DAYLIGHT
BEGIN:STANDARD
TZOFFSETFROM:-0400
TZOFFSETTO:-0500
TZNAME:EST
DTSTART:20271107T060000
END:STANDARD
END:VTIMEZONE
BEGIN:VEVENT
DTSTART;TZID=America/Indiana/Indianapolis:20260915T111500
DTEND;TZID=America/Indiana/Indianapolis:20260915T130000
DTSTAMP:20260421T150952
CREATED:20251126T151943Z
LAST-MODIFIED:20251126T151943Z
UID:10000420-1789470900-1789477200@www.myicbr.org
SUMMARY:IndyCREW: September Luncheon
DESCRIPTION:Save the date for IndyCREW’s September luncheon! \nVisit IndyCREW’s website to learn more
URL:https://www.myicbr.org/event/indycrew-september-luncheon-4/
CATEGORIES:Industry Event,Partner Organization Events
ATTACH;FMTTYPE=image/png:https://www.myicbr.org/wp-content/uploads/2023/08/indy-crew-transparent.png
END:VEVENT
BEGIN:VEVENT
DTSTART;TZID=America/Indiana/Indianapolis:20260917T110000
DTEND;TZID=America/Indiana/Indianapolis:20260917T130000
DTSTAMP:20260421T150952
CREATED:20251013T165656Z
LAST-MODIFIED:20251110T203006Z
UID:10000372-1789642800-1789650000@www.myicbr.org
SUMMARY:BOMA: September Luncheon
DESCRIPTION:Save the date for BOMA’s September luncheon! \nVisit BOMA’s website to learn more
URL:https://www.myicbr.org/event/boma-september-luncheon-2/
CATEGORIES:Industry Event,Partner Organization Events
ATTACH;FMTTYPE=image/png:https://www.myicbr.org/wp-content/uploads/2024/04/BOMA-3-Cs-Header-1-e1713966032635.png
END:VEVENT
END:VCALENDAR