BEGIN:VCALENDAR
VERSION:2.0
PRODID:-//The Indiana Commercial Board of Realtors - ECPv6.15.18//NONSGML v1.0//EN
CALSCALE:GREGORIAN
METHOD:PUBLISH
X-WR-CALNAME:The Indiana Commercial Board of Realtors
X-ORIGINAL-URL:https://www.myicbr.org
X-WR-CALDESC:Events for The Indiana Commercial Board of Realtors
REFRESH-INTERVAL;VALUE=DURATION:PT1H
X-Robots-Tag:noindex
X-PUBLISHED-TTL:PT1H
BEGIN:VTIMEZONE
TZID:America/Indiana/Indianapolis
BEGIN:DAYLIGHT
TZOFFSETFROM:-0500
TZOFFSETTO:-0400
TZNAME:EDT
DTSTART:20250309T070000
END:DAYLIGHT
BEGIN:STANDARD
TZOFFSETFROM:-0400
TZOFFSETTO:-0500
TZNAME:EST
DTSTART:20251102T060000
END:STANDARD
BEGIN:DAYLIGHT
TZOFFSETFROM:-0500
TZOFFSETTO:-0400
TZNAME:EDT
DTSTART:20260308T070000
END:DAYLIGHT
BEGIN:STANDARD
TZOFFSETFROM:-0400
TZOFFSETTO:-0500
TZNAME:EST
DTSTART:20261101T060000
END:STANDARD
BEGIN:DAYLIGHT
TZOFFSETFROM:-0500
TZOFFSETTO:-0400
TZNAME:EDT
DTSTART:20270314T070000
END:DAYLIGHT
BEGIN:STANDARD
TZOFFSETFROM:-0400
TZOFFSETTO:-0500
TZNAME:EST
DTSTART:20271107T060000
END:STANDARD
END:VTIMEZONE
BEGIN:VEVENT
DTSTART;TZID=America/Indiana/Indianapolis:20260213T113000
DTEND;TZID=America/Indiana/Indianapolis:20260213T133000
DTSTAMP:20260422T101622
CREATED:20260203T132204Z
LAST-MODIFIED:20260203T132204Z
UID:10000446-1770982200-1770989400@www.myicbr.org
SUMMARY:ULI: WLI Galentine's Hour of Power
DESCRIPTION:Join ULI over lunch for an honest\, energizing conversation with women leaders who will share their career journeys\, the real story behind work/life balance\, and advice they wish they’d heard sooner. Expect candid insights\, encouragement\, and takeaways you can actually use\, plus a little Galentine’s fun along the way. \nVisit ULI’s website to learn more
URL:https://www.myicbr.org/event/uli-wli-galentines-hour-of-power/
LOCATION:August Mack\, 1302 North Meridian Street\, Suite 300\, Indianapolis\, 46202\, United States
CATEGORIES:Industry Event,Partner Organization Events
ATTACH;FMTTYPE=image/png:https://www.myicbr.org/wp-content/uploads/2025/05/ULI-Indiana.png
END:VEVENT
END:VCALENDAR