BEGIN:VCALENDAR
VERSION:2.0
PRODID:-//The Indiana Commercial Board of Realtors - ECPv6.15.18//NONSGML v1.0//EN
CALSCALE:GREGORIAN
METHOD:PUBLISH
X-ORIGINAL-URL:https://www.myicbr.org
X-WR-CALDESC:Events for The Indiana Commercial Board of Realtors
REFRESH-INTERVAL;VALUE=DURATION:PT1H
X-Robots-Tag:noindex
X-PUBLISHED-TTL:PT1H
BEGIN:VTIMEZONE
TZID:America/Indiana/Indianapolis
BEGIN:DAYLIGHT
TZOFFSETFROM:-0500
TZOFFSETTO:-0400
TZNAME:EDT
DTSTART:20240310T070000
END:DAYLIGHT
BEGIN:STANDARD
TZOFFSETFROM:-0400
TZOFFSETTO:-0500
TZNAME:EST
DTSTART:20241103T060000
END:STANDARD
BEGIN:DAYLIGHT
TZOFFSETFROM:-0500
TZOFFSETTO:-0400
TZNAME:EDT
DTSTART:20250309T070000
END:DAYLIGHT
BEGIN:STANDARD
TZOFFSETFROM:-0400
TZOFFSETTO:-0500
TZNAME:EST
DTSTART:20251102T060000
END:STANDARD
BEGIN:DAYLIGHT
TZOFFSETFROM:-0500
TZOFFSETTO:-0400
TZNAME:EDT
DTSTART:20260308T070000
END:DAYLIGHT
BEGIN:STANDARD
TZOFFSETFROM:-0400
TZOFFSETTO:-0500
TZNAME:EST
DTSTART:20261101T060000
END:STANDARD
END:VTIMEZONE
BEGIN:VEVENT
DTSTART;TZID=America/Indiana/Indianapolis:20250625T163000
DTEND;TZID=America/Indiana/Indianapolis:20250625T183000
DTSTAMP:20260423T100255
CREATED:20250421T193115Z
LAST-MODIFIED:20250421T193115Z
UID:10000323-1750869000-1750876200@www.myicbr.org
SUMMARY:CCIM & SIOR: Rooftop Social
DESCRIPTION:Save the date for CCIM and SIOR’s joint rooftop social! \nClick here for more information
URL:https://www.myicbr.org/event/ccim-sior-rooftop-social/
LOCATION:InterContinental Hotel\, 17 West Market Street\, Indianapolis\, 46204\, United States
CATEGORIES:Industry Event,Partner Organization Events
END:VEVENT
BEGIN:VEVENT
DTSTART;TZID=America/Indiana/Indianapolis:20250424T111500
DTEND;TZID=America/Indiana/Indianapolis:20250424T130000
DTSTAMP:20260423T100255
CREATED:20241105T142801Z
LAST-MODIFIED:20250421T201300Z
UID:10000269-1745493300-1745499600@www.myicbr.org
SUMMARY:BOMA: April Luncheon
DESCRIPTION:Join BOMA at the newly renovated Intercontinental Hotel in the heart of downtown Indianapolis for Legislative Insights: An Advocacy Update with Vanessa Green Sinders\, President & CEO of the Indiana Chamber. Gain valuable perspectives on key legislative and policy developments shaping our business community. \nVisit BOMA’s website to learn more
URL:https://www.myicbr.org/event/boma-april-luncheon/
LOCATION:InterContinental Hotel\, 17 West Market Street\, Indianapolis\, 46204\, United States
CATEGORIES:Industry Event,Partner Organization Events
ATTACH;FMTTYPE=image/png:https://www.myicbr.org/wp-content/uploads/2024/04/BOMA-3-Cs-Header-1-e1713966032635.png
END:VEVENT
END:VCALENDAR