BEGIN:VCALENDAR
VERSION:2.0
PRODID:-//The Indiana Commercial Board of Realtors - ECPv6.15.18//NONSGML v1.0//EN
CALSCALE:GREGORIAN
METHOD:PUBLISH
X-ORIGINAL-URL:https://www.myicbr.org
X-WR-CALDESC:Events for The Indiana Commercial Board of Realtors
REFRESH-INTERVAL;VALUE=DURATION:PT1H
X-Robots-Tag:noindex
X-PUBLISHED-TTL:PT1H
BEGIN:VTIMEZONE
TZID:America/Indiana/Indianapolis
BEGIN:DAYLIGHT
TZOFFSETFROM:-0500
TZOFFSETTO:-0400
TZNAME:EDT
DTSTART:20230312T070000
END:DAYLIGHT
BEGIN:STANDARD
TZOFFSETFROM:-0400
TZOFFSETTO:-0500
TZNAME:EST
DTSTART:20231105T060000
END:STANDARD
BEGIN:DAYLIGHT
TZOFFSETFROM:-0500
TZOFFSETTO:-0400
TZNAME:EDT
DTSTART:20240310T070000
END:DAYLIGHT
BEGIN:STANDARD
TZOFFSETFROM:-0400
TZOFFSETTO:-0500
TZNAME:EST
DTSTART:20241103T060000
END:STANDARD
BEGIN:DAYLIGHT
TZOFFSETFROM:-0500
TZOFFSETTO:-0400
TZNAME:EDT
DTSTART:20250309T070000
END:DAYLIGHT
BEGIN:STANDARD
TZOFFSETFROM:-0400
TZOFFSETTO:-0500
TZNAME:EST
DTSTART:20251102T060000
END:STANDARD
END:VTIMEZONE
BEGIN:VEVENT
DTSTART;TZID=America/Indiana/Indianapolis:20241120T080000
DTEND;TZID=America/Indiana/Indianapolis:20241120T100000
DTSTAMP:20260420T160656
CREATED:20240321T151648Z
LAST-MODIFIED:20240918T210149Z
UID:10000215-1732089600-1732096800@www.myicbr.org
SUMMARY:ULI: November Breakfast Series
DESCRIPTION:Save the date! \nVisit ULI’s website to learn more
URL:https://www.myicbr.org/event/uli-november-breakfast-series/
LOCATION:Katz\, Sapper & Miller\, 800 E 96th Street #500\, Indianapolis\, 46202\, United States
CATEGORIES:Partner Organization Events
END:VEVENT
BEGIN:VEVENT
DTSTART;TZID=America/Indiana/Indianapolis:20240926T080000
DTEND;TZID=America/Indiana/Indianapolis:20240926T100000
DTSTAMP:20260420T160656
CREATED:20240321T151224Z
LAST-MODIFIED:20240918T205231Z
UID:10000213-1727337600-1727344800@www.myicbr.org
SUMMARY:ULI: September Breakfast Series: Missing Middle and Attainable Housing Strategies
DESCRIPTION:In the face of ongoing interest rate uncertainties\, jurisdictional challenges\, and persistent low housing inventory\, many Indiana residents find housing prices to be increasingly out of reach. \nJoin ULI for this session\, where Indiana developers will share their experiences in creating and supporting Missing Middle housing projects. Learn about their efforts to establish systems of permanent affordability and the innovative strategies they’re using to overcome the barriers to accessible housing. \n  \nVisit ULI’s website to learn more
URL:https://www.myicbr.org/event/uli-september-breakfast-series/
LOCATION:Katz\, Sapper & Miller\, 800 E 96th Street #500\, Indianapolis\, 46202\, United States
CATEGORIES:Partner Organization Events
END:VEVENT
BEGIN:VEVENT
DTSTART;TZID=America/Indiana/Indianapolis:20240425T080000
DTEND;TZID=America/Indiana/Indianapolis:20240425T100000
DTSTAMP:20260420T160656
CREATED:20240321T145840Z
LAST-MODIFIED:20240327T125246Z
UID:10000208-1714032000-1714039200@www.myicbr.org
SUMMARY:ULI: April Breakfast Series - Unlocking Development Potential: Leveraging Incentives and Maximizing Public-Private Partnerships
DESCRIPTION:Join ULI Indiana for an exclusive discussion delving into the state of incentives\, their leverage within the current development landscape\, and the critical importance of tax planning and structuring. This event will also showcase a recent case study exemplifying a properly structured and executed deal. \nVisit ULI’s website to learn more
URL:https://www.myicbr.org/event/uli-april-breakfast-series/
LOCATION:Katz\, Sapper & Miller\, 800 E 96th Street #500\, Indianapolis\, 46202\, United States
CATEGORIES:Partner Organization Events
END:VEVENT
END:VCALENDAR