BEGIN:VCALENDAR
VERSION:2.0
PRODID:-//The Indiana Commercial Board of Realtors - ECPv6.15.18//NONSGML v1.0//EN
CALSCALE:GREGORIAN
METHOD:PUBLISH
X-ORIGINAL-URL:https://www.myicbr.org
X-WR-CALDESC:Events for The Indiana Commercial Board of Realtors
REFRESH-INTERVAL;VALUE=DURATION:PT1H
X-Robots-Tag:noindex
X-PUBLISHED-TTL:PT1H
BEGIN:VTIMEZONE
TZID:America/Indiana/Indianapolis
BEGIN:DAYLIGHT
TZOFFSETFROM:-0500
TZOFFSETTO:-0400
TZNAME:EDT
DTSTART:20230312T070000
END:DAYLIGHT
BEGIN:STANDARD
TZOFFSETFROM:-0400
TZOFFSETTO:-0500
TZNAME:EST
DTSTART:20231105T060000
END:STANDARD
BEGIN:DAYLIGHT
TZOFFSETFROM:-0500
TZOFFSETTO:-0400
TZNAME:EDT
DTSTART:20240310T070000
END:DAYLIGHT
BEGIN:STANDARD
TZOFFSETFROM:-0400
TZOFFSETTO:-0500
TZNAME:EST
DTSTART:20241103T060000
END:STANDARD
BEGIN:DAYLIGHT
TZOFFSETFROM:-0500
TZOFFSETTO:-0400
TZNAME:EDT
DTSTART:20250309T070000
END:DAYLIGHT
BEGIN:STANDARD
TZOFFSETFROM:-0400
TZOFFSETTO:-0500
TZNAME:EST
DTSTART:20251102T060000
END:STANDARD
END:VTIMEZONE
BEGIN:VEVENT
DTSTART;TZID=America/Indiana/Indianapolis:20241029T183000
DTEND;TZID=America/Indiana/Indianapolis:20241029T193000
DTSTAMP:20260422T180317
CREATED:20240918T204426Z
LAST-MODIFIED:20241015T143731Z
UID:10000252-1730226600-1730230200@www.myicbr.org
SUMMARY:BOMA: Purdue Panel - CRE Launchpad: Insights & Networking with Industry Leaders
DESCRIPTION:Join BOMA for the CRE Launchpad at Purdue University\, an exclusive panel featuring top professionals in the Commercial Real Estate (CRE) industry. Gain insights from Megan Drummond\, Healthcare Property Manager at Cornerstone Companies; Adam Chavers\, Chief Development Officer at Browning; and Traci Kapsalis\, Executive Vice President at JLL. \nThese industry leaders will share their journeys into CRE\, the careers they’ve built\, and offer valuable advice to aspiring professionals. This FREE event is a unique opportunity to network with experts\, explore potential internships\, and discover mentorship opportunities. Plus\, enjoy complimentary food while gaining knowledge that could shape your future in Commercial Real Estate. Don’t miss this chance to launch your career! \nVisit BOMA’s website to learn more
URL:https://www.myicbr.org/event/boma-crelaunchpad/
LOCATION:Purdue University – Krannert Building\, 403 Mitch Daniels Blvd.\, West Lafayette\, IN\, 47907\, United States
CATEGORIES:Partner Organization Events
ATTACH;FMTTYPE=image/png:https://www.myicbr.org/wp-content/uploads/2024/04/BOMA-3-Cs-Header-1-e1713966032635.png
END:VEVENT
END:VCALENDAR